BEGIN:VCALENDAR
VERSION:2.0
PRODID:-//Maison de Parents de la Matawinie Ouest - ECPv6.15.20//NONSGML v1.0//EN
CALSCALE:GREGORIAN
METHOD:PUBLISH
X-WR-CALNAME:Maison de Parents de la Matawinie Ouest
X-ORIGINAL-URL:https://www.maisondeparents-mo.com
X-WR-CALDESC:Évènements pour Maison de Parents de la Matawinie Ouest
REFRESH-INTERVAL;VALUE=DURATION:PT1H
X-Robots-Tag:noindex
X-PUBLISHED-TTL:PT1H
BEGIN:VTIMEZONE
TZID:America/Toronto
BEGIN:DAYLIGHT
TZOFFSETFROM:-0500
TZOFFSETTO:-0400
TZNAME:EDT
DTSTART:20240310T070000
END:DAYLIGHT
BEGIN:STANDARD
TZOFFSETFROM:-0400
TZOFFSETTO:-0500
TZNAME:EST
DTSTART:20241103T060000
END:STANDARD
BEGIN:DAYLIGHT
TZOFFSETFROM:-0500
TZOFFSETTO:-0400
TZNAME:EDT
DTSTART:20250309T070000
END:DAYLIGHT
BEGIN:STANDARD
TZOFFSETFROM:-0400
TZOFFSETTO:-0500
TZNAME:EST
DTSTART:20251102T060000
END:STANDARD
BEGIN:DAYLIGHT
TZOFFSETFROM:-0500
TZOFFSETTO:-0400
TZNAME:EDT
DTSTART:20260308T070000
END:DAYLIGHT
BEGIN:STANDARD
TZOFFSETFROM:-0400
TZOFFSETTO:-0500
TZNAME:EST
DTSTART:20261101T060000
END:STANDARD
END:VTIMEZONE
BEGIN:VEVENT
DTSTART;TZID=America/Toronto:20250627T090000
DTEND;TZID=America/Toronto:20250627T120000
DTSTAMP:20260421T175550
CREATED:20250528T142637Z
LAST-MODIFIED:20250605T164308Z
UID:4588-1751014800-1751025600@www.maisondeparents-mo.com
SUMMARY:Sortie familiale - Autocueillette de fraises à la Ferme Guy Rivest
DESCRIPTION:Joignez-vous à nous le vendredi 27 juin à 9h00 pour une activité familiale pleine de saveurs et de plaisir ! L’événement est ouvert à tous – petits et grands sont les bienvenus pour venir cueillir de délicieuses fraises directement au champ.  \nUne belle occasion de profiter de l’extérieur en famille ! \n\nDate: Vendredi 27 juin 2025\nHeure: De 9h00 à 12h00\nLieu: À la ferme Guy Rivest\, 1305 Chemin Laliberté\, Rawdon\, QC J0K 1S0\n\nCoût: \n\n1 panier (3L) = 10$\n2 paniers (2 x 3L) = 20$
URL:https://www.maisondeparents-mo.com/event/sortie-familiale-autocueillette-de-fraises-a-la-ferme-guy-rivest/
LOCATION:Ferme Guy Rivest  1305 ch. Laliberté   Rawdon\, Québec J0K 1S0\, 1305 ch. Laliberté\, Rawdon\, qc\, J0K1S0\, Canada
ATTACH;FMTTYPE=image/jpeg:https://www.maisondeparents-mo.com/wp-content/uploads/2025/05/Sortie-familiale-2.jpg
END:VEVENT
END:VCALENDAR