BEGIN:VCALENDAR
VERSION:2.0
PRODID:-//Maison de Parents de la Matawinie Ouest - ECPv6.15.20//NONSGML v1.0//EN
CALSCALE:GREGORIAN
METHOD:PUBLISH
X-ORIGINAL-URL:https://www.maisondeparents-mo.com
X-WR-CALDESC:Évènements pour Maison de Parents de la Matawinie Ouest
REFRESH-INTERVAL;VALUE=DURATION:PT1H
X-Robots-Tag:noindex
X-PUBLISHED-TTL:PT1H
BEGIN:VTIMEZONE
TZID:America/Toronto
BEGIN:DAYLIGHT
TZOFFSETFROM:-0500
TZOFFSETTO:-0400
TZNAME:EDT
DTSTART:20240310T070000
END:DAYLIGHT
BEGIN:STANDARD
TZOFFSETFROM:-0400
TZOFFSETTO:-0500
TZNAME:EST
DTSTART:20241103T060000
END:STANDARD
BEGIN:DAYLIGHT
TZOFFSETFROM:-0500
TZOFFSETTO:-0400
TZNAME:EDT
DTSTART:20250309T070000
END:DAYLIGHT
BEGIN:STANDARD
TZOFFSETFROM:-0400
TZOFFSETTO:-0500
TZNAME:EST
DTSTART:20251102T060000
END:STANDARD
BEGIN:DAYLIGHT
TZOFFSETFROM:-0500
TZOFFSETTO:-0400
TZNAME:EDT
DTSTART:20260308T070000
END:DAYLIGHT
BEGIN:STANDARD
TZOFFSETFROM:-0400
TZOFFSETTO:-0500
TZNAME:EST
DTSTART:20261101T060000
END:STANDARD
END:VTIMEZONE
BEGIN:VEVENT
DTSTART;TZID=America/Toronto:20250704T100000
DTEND;TZID=America/Toronto:20250704T140000
DTSTAMP:20260421T120834
CREATED:20250605T170516Z
LAST-MODIFIED:20250625T172614Z
UID:4639-1751623200-1751637600@www.maisondeparents-mo.com
SUMMARY:Sortie Familiale - Jardins de lavande Arômes&Saveurs à Sainte-Mélanie
DESCRIPTION: Sortie familiale – Jardin de lavande  \nNous avons le plaisir de vous inviter à une magnifique Sortie Familiale dans les champs de lavande le vendredi 4 juillet 2025\, à partir de 10h00. \nVenez profiter de cette belle activité en nature pour :\n Créer de précieux souvenirs en famille\n Prendre de magnifiques photos au cœur des lavandes\n Apprécier les parfums apaisants des champs fleuris\n Vous connecter à la nature et partager un moment paisible avec d’autres familles \n Apportez votre lunch\, un chapeau et votre bonne humeur ! \nL’endroit est parfait pour un pique-nique au grand air.  \n  Vendredi 04 juillet à 10h00\n Les Jardins Arômes et Saveurs – 121 Rang du Pied de la Montagne\, Sainte-Mélanie (Québec) J0K 3A0 \nInscription obligatoire. \n\nseulement 3$ par adulte (gratuit pour les 15 ans et moins)
URL:https://www.maisondeparents-mo.com/event/sortie-familiale-jardins-de-lavande-aromessaveurs-a-sainte-melanie/
LOCATION:Les Jardins Arômes & Saveurs\, 121 rang du Pied de la Montagne\, Ste-Mélanie\, QC\, J0K 3A0\, Canada
ATTACH;FMTTYPE=image/jpeg:https://www.maisondeparents-mo.com/wp-content/uploads/2025/06/Sortie-Familiale-1.jpg
END:VEVENT
END:VCALENDAR