BEGIN:VCALENDAR
VERSION:2.0
PRODID:-//Maison de Parents de la Matawinie Ouest - ECPv6.15.20//NONSGML v1.0//EN
CALSCALE:GREGORIAN
METHOD:PUBLISH
X-ORIGINAL-URL:https://www.maisondeparents-mo.com
X-WR-CALDESC:Évènements pour Maison de Parents de la Matawinie Ouest
REFRESH-INTERVAL;VALUE=DURATION:PT1H
X-Robots-Tag:noindex
X-PUBLISHED-TTL:PT1H
BEGIN:VTIMEZONE
TZID:America/Toronto
BEGIN:DAYLIGHT
TZOFFSETFROM:-0500
TZOFFSETTO:-0400
TZNAME:EDT
DTSTART:20240310T070000
END:DAYLIGHT
BEGIN:STANDARD
TZOFFSETFROM:-0400
TZOFFSETTO:-0500
TZNAME:EST
DTSTART:20241103T060000
END:STANDARD
BEGIN:DAYLIGHT
TZOFFSETFROM:-0500
TZOFFSETTO:-0400
TZNAME:EDT
DTSTART:20250309T070000
END:DAYLIGHT
BEGIN:STANDARD
TZOFFSETFROM:-0400
TZOFFSETTO:-0500
TZNAME:EST
DTSTART:20251102T060000
END:STANDARD
BEGIN:DAYLIGHT
TZOFFSETFROM:-0500
TZOFFSETTO:-0400
TZNAME:EDT
DTSTART:20260308T070000
END:DAYLIGHT
BEGIN:STANDARD
TZOFFSETFROM:-0400
TZOFFSETTO:-0500
TZNAME:EST
DTSTART:20261101T060000
END:STANDARD
END:VTIMEZONE
BEGIN:VEVENT
DTSTART;TZID=America/Toronto:20250826T093000
DTEND;TZID=America/Toronto:20250826T110000
DTSTAMP:20260421T103844
CREATED:20250623T133733Z
LAST-MODIFIED:20250623T133733Z
UID:4806-1756200600-1756206000@www.maisondeparents-mo.com
SUMMARY:Conte-animé
DESCRIPTION:Profitez de nos contes animés  pour passer un moment de complicité avec votre/vos enfant(s) 1-5 ans et rencontrer d’autres familles! \nLe conte-animé est une activité parent-enfant pendant laquelle une histoire sera contée\, suivie d’un atelier bricolage! \nEn août: \n\nMardi 26 août – L’exploration\n\nHeure: De 9h30 à 11h00\nLieu: À la Maison de Parents de la Matawinie Ouest\, 3615 rue Queen à Rawdon\nCoût: Gratuit pour nos membres (Adhésion à 10$ pour l’année)
URL:https://www.maisondeparents-mo.com/event/conte-anime/
LOCATION:Maison de Parents de la Matawinie Ouest\, 3615 rue Queen\, Rawdon\, QC\, J0K 1S0\, Canada
ATTACH;FMTTYPE=image/jpeg:https://www.maisondeparents-mo.com/wp-content/uploads/2025/01/Conte-anime-3.jpg
END:VEVENT
END:VCALENDAR