BEGIN:VCALENDAR
VERSION:2.0
PRODID:-//Maison de Parents de la Matawinie Ouest - ECPv6.15.20//NONSGML v1.0//EN
CALSCALE:GREGORIAN
METHOD:PUBLISH
X-ORIGINAL-URL:https://www.maisondeparents-mo.com
X-WR-CALDESC:Évènements pour Maison de Parents de la Matawinie Ouest
REFRESH-INTERVAL;VALUE=DURATION:PT1H
X-Robots-Tag:noindex
X-PUBLISHED-TTL:PT1H
BEGIN:VTIMEZONE
TZID:America/Toronto
BEGIN:DAYLIGHT
TZOFFSETFROM:-0500
TZOFFSETTO:-0400
TZNAME:EDT
DTSTART:20240310T070000
END:DAYLIGHT
BEGIN:STANDARD
TZOFFSETFROM:-0400
TZOFFSETTO:-0500
TZNAME:EST
DTSTART:20241103T060000
END:STANDARD
BEGIN:DAYLIGHT
TZOFFSETFROM:-0500
TZOFFSETTO:-0400
TZNAME:EDT
DTSTART:20250309T070000
END:DAYLIGHT
BEGIN:STANDARD
TZOFFSETFROM:-0400
TZOFFSETTO:-0500
TZNAME:EST
DTSTART:20251102T060000
END:STANDARD
BEGIN:DAYLIGHT
TZOFFSETFROM:-0500
TZOFFSETTO:-0400
TZNAME:EDT
DTSTART:20260308T070000
END:DAYLIGHT
BEGIN:STANDARD
TZOFFSETFROM:-0400
TZOFFSETTO:-0500
TZNAME:EST
DTSTART:20261101T060000
END:STANDARD
END:VTIMEZONE
BEGIN:VEVENT
DTSTART;TZID=America/Toronto:20250926T090000
DTEND;TZID=America/Toronto:20250926T113000
DTSTAMP:20260421T092000
CREATED:20250820T140033Z
LAST-MODIFIED:20250820T142155Z
UID:4889-1758877200-1758886200@www.maisondeparents-mo.com
SUMMARY:Cuisine collective
DESCRIPTION:Venez préparer de délicieuses recettes en compagnie d’autres parents et repartez ensuite avec tout vos plats et le bonheur d’avoir partager un moment convivial et bienveillant avec nous!\nVirginy vous guidera tout le long de l’activité pour cuisiner des recettes originales et santé à partager en famille. \n‍ Au menu des Cuisines Collectives en septembre sur le thème « 5 ingrédients ou moins » : \n\nGnocchis aux tomates et à la saucisse italienne\nQuesadillas au brocoli\nBoule d’énergie ‍\n\nÀ partir de janvier 2025: nos ateliers de Cuisine Collective seront maintenant avec contribution ( coût de 10$ par participant). \n**Vous ne pouvez vous inscrire qu’à une seule cuisine collective par mois** \nÀ qui s’adressent nos cuisines collectives: À toutes les familles avec enfants à la maison.\nCoût: 10$ par participant \nDate: Vendredi 5  et vendredi 26 septembre 2025\nHeure: De 9h00 à 11h30\nThème: 5 ingrédients ou moins\nLieu: À la Maison de Parents de la Matawinie Ouest\, 3615 rue Queen\, Rawdon\, J0K 1S0
URL:https://www.maisondeparents-mo.com/event/cuisine-collective-3/
LOCATION:Maison de parents\, 3615 rue Queen\, Rawdon\, Québec\, j0k1s0\, Canada
ATTACH;FMTTYPE=image/jpeg:https://www.maisondeparents-mo.com/wp-content/uploads/2025/01/Cuisine-collective-1.jpg
END:VEVENT
END:VCALENDAR